BEGIN:VCALENDAR
VERSION:2.0
PRODID:-//ChamberMaster//Event Calendar 2.0//EN
METHOD:PUBLISH
X-PUBLISHED-TTL:P3D
REFRESH-INTERVAL:P3D
CALSCALE:GREGORIAN
BEGIN:VEVENT
DTSTART:20121019T003000Z
DTEND:20121019T033000Z
X-MICROSOFT-CDO-ALLDAYEVENT:FALSE
SUMMARY:Annual Wine and Dine 2012
DESCRIPTION:Join us for an evening of fun\, food and festivities!\n\n	Enjoy an evening of wine tasting\, micro-brew tasting & culinary creations -- sampling from over 50 local businesses -- in addition to music\, a silent auction & much more!\n\n	Exhibitors: Register for this Event HERE.\n\n	Attendees: Purchase Tickets HERE.\n\n	Here is a snapshot of the establishments who participated last year:\n\n	Wineries\n\n	*Michael David Winery\n\n	*Mario Perelli-Minetti Winery\n\n	*Artesa Vineyards and Winery\n\n	*Bent Creek Winery\n\n	*Whole Foods Market San Ramon\, Wine Department\n\n	*Tamas Estates\n\n	*Murrieta's Well\n\n	*BEVMO!\n\n	*Wente Vineyards\n\n	*Pernod Ricard Wines\n\n	*Rodney Strong Wine Estates\n\n	*The Wine Group\n\n	Restaurants\n\n	*Faz Restaurant\n\n	*Blackhawk Grille\n\n	*Whole Foods Market San Ramon\n\n	*That Bar\n\n	*Amici's East Coast Pizzeria\n\n	*Grillaxin BBQ Service\n\n	*The Whimsical Cupcake\n\n	*Tower Grille\n\n	*Thyme to Eat\n\n	*The Brass Door\n\n	*Nothing Bundt Cakes\n\n	*Danville Chocolates\n\n	*Pavlos Pizza and Pasta\n\n	*Giuseppe's Pasta & Grill\n\n	*Los Panchos Mexican Restaurant\n\n	*Maria Maria Inspired Mexican Cuisine\n\n	*ClubSport Bistro San Ramon\n\n	*San Ramon Marriott\n\n	*Raffine Chocolates\n\n	*Cafe Tandoor\n\n	*Absolute Catering\n\n	*The Basket Lady - Gourmet Food and Wine Gifts\n\n	*Karen On the Go\n\n	Micro-Breweries\n\n	*21st Amendment Brewery\n\n	*E.J. Phair Brewing Company\n\n	*Pyramid Alehouse\n\n	*Jack's Brewing Company\n\n	All drinks and food are included.\n\n	Attendees: Purchase Tickets HERE.
X-ALT-DESC;FMTTYPE=text/html:<p style="margin-top: 0.5em\; margin-bottom: 15px\; font-size: 15px\; line-height: 20px\; font-family: Georgia\, 'Times New Roman'\, Times\, serif\; color: rgb(51\, 51\, 51)\; ">\n	<strong>Join us for an evening of fun\, food and festivities!</strong></p>\n<p style="margin-top: 0.5em\; margin-bottom: 15px\; font-size: 15px\; line-height: 20px\; font-family: Georgia\, 'Times New Roman'\, Times\, serif\; color: rgb(51\, 51\, 51)\; ">\n	Enjoy an evening of wine tasting\, micro-brew tasting &amp\; culinary creations -- sampling from over 50 local businesses -- in addition to music\, a silent auction &amp\; much more!</p>\n<p style="margin-top: 0.5em\; margin-bottom: 15px\; font-size: 15px\; line-height: 20px\; font-family: Georgia\, 'Times New Roman'\, Times\, serif\; color: rgb(51\, 51\, 51)\; ">\n	<a data-bitly-type="bitly_hover_card" href="http://www.sanramon.org/node/113734" style="text-decoration: none\; font-weight: bold\; color: rgb(32\, 83\, 95)\; ">Exhibitors: Register for this Event HERE.</a></p>\n<p style="margin-top: 0.5em\; margin-bottom: 15px\; font-size: 15px\; line-height: 20px\; font-family: Georgia\, 'Times New Roman'\, Times\, serif\; color: rgb(51\, 51\, 51)\; ">\n	<a data-bitly-type="bitly_hover_card" href="http://www.sanramon.org/node/113735" style="text-decoration: none\; font-weight: bold\; color: rgb(32\, 83\, 95)\; ">Attendees: Purchase Tickets HERE.</a></p>\n<p style="margin-top: 0.5em\; margin-bottom: 15px\; font-size: 15px\; line-height: 20px\; font-family: Georgia\, 'Times New Roman'\, Times\, serif\; color: rgb(51\, 51\, 51)\; ">\n	Here is a snapshot of the establishments who participated last year:</p>\n<p style="margin-top: 0.5em\; margin-bottom: 15px\; font-size: 15px\; line-height: 20px\; font-family: Georgia\, 'Times New Roman'\, Times\, serif\; color: rgb(51\, 51\, 51)\; ">\n	<strong>Wineries</strong><br />\n	*Michael David Winery<br />\n	*Mario Perelli-Minetti Winery<br />\n	*Artesa Vineyards and Winery<br />\n	*Bent Creek Winery<br />\n	*Whole Foods Market San Ramon\, Wine Department<br />\n	*Tamas Estates<br />\n	*Murrieta&#39\;s Well<br />\n	*BEVMO!<br />\n	*Wente Vineyards<br />\n	*Pernod Ricard Wines<br />\n	*Rodney Strong Wine Estates<br />\n	*The Wine Group</p>\n<p style="margin-top: 0.5em\; margin-bottom: 15px\; font-size: 15px\; line-height: 20px\; font-family: Georgia\, 'Times New Roman'\, Times\, serif\; color: rgb(51\, 51\, 51)\; ">\n	<strong>Restaurants</strong></p>\n<p style="margin-top: 0.5em\; margin-bottom: 15px\; font-size: 15px\; line-height: 20px\; font-family: Georgia\, 'Times New Roman'\, Times\, serif\; color: rgb(51\, 51\, 51)\; ">\n	*Faz Restaurant<br />\n	*Blackhawk Grille<br />\n	*Whole Foods Market San Ramon<br />\n	*That Bar<br />\n	*Amici&#39\;s East Coast Pizzeria<br />\n	*Grillaxin BBQ Service<br />\n	*The Whimsical Cupcake<br />\n	*Tower Grille<br />\n	*Thyme to Eat<br />\n	*The Brass Door<br />\n	*Nothing Bundt Cakes<br />\n	*Danville Chocolates<br />\n	*Pavlos Pizza and Pasta<br />\n	*Giuseppe&#39\;s Pasta &amp\; Grill<br />\n	*Los Panchos Mexican Restaurant<br />\n	*Maria Maria Inspired Mexican Cuisine<br />\n	*ClubSport Bistro San Ramon<br />\n	*San Ramon Marriott<br />\n	*Raffine Chocolates<br />\n	*Cafe Tandoor<br />\n	*Absolute Catering<br />\n	*The Basket Lady - Gourmet Food and Wine Gifts<br />\n	*Karen On the Go</p>\n<p style="margin-top: 0.5em\; margin-bottom: 15px\; font-size: 15px\; line-height: 20px\; font-family: Georgia\, 'Times New Roman'\, Times\, serif\; color: rgb(51\, 51\, 51)\; ">\n	<strong>Micro-Breweries</strong></p>\n<p style="margin-top: 0.5em\; margin-bottom: 15px\; font-size: 15px\; line-height: 20px\; font-family: Georgia\, 'Times New Roman'\, Times\, serif\; color: rgb(51\, 51\, 51)\; ">\n	*21st Amendment Brewery<br />\n	*E.J. Phair Brewing Company<br />\n	*Pyramid Alehouse<br />\n	*Jack&#39\;s Brewing Company</p>\n<p style="margin-top: 0.5em\; margin-bottom: 15px\; font-size: 15px\; line-height: 20px\; font-family: Georgia\, 'Times New Roman'\, Times\, serif\; color: rgb(51\, 51\, 51)\; ">\n	All drinks and food are included.</p>\n<p style="margin-top: 0.5em\; margin-bottom: 15px\; font-size: 15px\; line-height: 20px\; font-family: Georgia\, 'Times New Roman'\, Times\, serif\; color: rgb(51\, 51\, 51)\; ">\n	<a data-bitly-type="bitly_hover_card" href="http://www.sanramon.org/node/113735" style="text-decoration: none\; font-weight: bold\; color: rgb(32\, 83\, 95)\; ">Attendees: Purchase Tickets HERE.</a></p>\n
LOCATION:ClubSport San Ramon 350 Bollinger Canyon Lane San Ramon\, CA\, 94582 United States
UID:e.1162.3
SEQUENCE:3
DTSTAMP:20260421T062455Z
URL:http://sanramon.chambermaster.com/events/details/annual-wine-and-dine-2012-10-18-2012-3
END:VEVENT

END:VCALENDAR
