BEGIN:VCALENDAR
VERSION:2.0
PRODID:-//ChamberMaster//Event Calendar 2.0//EN
METHOD:PUBLISH
X-PUBLISHED-TTL:P3D
REFRESH-INTERVAL:P3D
CALSCALE:GREGORIAN
BEGIN:VEVENT
DTSTART:20140126T210000Z
DTEND:20140127T020000Z
X-MICROSOFT-CDO-ALLDAYEVENT:FALSE
SUMMARY:First Aid/ CPR Class near Modesto
DESCRIPTION:The Heartsaver First-aid/CPR/AED class covers the following topics: bleeding control\, seizures\, epi pen use\, allergic reactions\, snake bites\, broken bones\, poisoning\, CPR for adults\, children\, and infants\, chokesaving\, how to use an AED (automated external defibrillators)\, and other life threatening emergencies. \n\n\n\nTo register\, please click on the following link: http://dublincprclasses.com/course-catalog/heartsaver-cpraedfirst-aid/
X-ALT-DESC;FMTTYPE=text/html:The Heartsaver First-aid/CPR/AED class covers the following topics: bleeding control\, seizures\, epi pen use\, allergic reactions\, snake bites\, broken bones\, poisoning\, CPR for adults\, children\, and infants\, chokesaving\, how to use an AED (automated external defibrillators)\, and other life threatening emergencies.&nbsp\;<br />\n<br />\nTo register\, please click on the following link:&nbsp\;http://dublincprclasses.com/course-catalog/heartsaver-cpraedfirst-aid/
LOCATION:6930 Village Parkway Suite A\, Dublin\, CA 94568
UID:e.1162.676
SEQUENCE:3
DTSTAMP:20260424T211849Z
URL:http://sanramon.chambermaster.com/events/details/first-aid-cpr-class-near-modesto-01-26-2014-676
END:VEVENT

END:VCALENDAR
