BEGIN:VCALENDAR
VERSION:2.0
PRODID:-//ChamberMaster//Event Calendar 2.0//EN
METHOD:PUBLISH
X-PUBLISHED-TTL:P3D
REFRESH-INTERVAL:P3D
CALSCALE:GREGORIAN
BEGIN:VEVENT
DTSTART:20121128T000000Z
DTEND:20121128T010000Z
X-MICROSOFT-CDO-ALLDAYEVENT:FALSE
SUMMARY:New & Future Member Orientation
DESCRIPTION:Please come and learn about the various Chamber services that can benefit your business. We will have some of our Ambassadors and the Chamber's President/CEO\, Stewart Bambino\, here to greet you.\n\n	The meeting is in a casual setting\, and we have anywhere from 1 to 20 people in attendance every month. You don't need to RSVP and it's free for anyone interested in attending.
X-ALT-DESC;FMTTYPE=text/html:<p>\n	Please come and learn about the various Chamber services that can benefit your business. We will have some of our Ambassadors and the Chamber&#39\;s President/CEO\, Stewart Bambino\, here to greet you.</p>\n<p>\n	The meeting is in a casual setting\, and we have anywhere from 1 to 20 people in attendance every month. You don&rsquo\;t need to RSVP and it&rsquo\;s free for anyone interested in attending.</p>\n
LOCATION:Bishop Ranch 6 2400 Camino Ramon Conference Room 158/K San Ramon\, CA 94583 United States
UID:e.1162.131
SEQUENCE:3
DTSTAMP:20260419T202530Z
URL:http://sanramon.chambermaster.com/events/details/new-future-member-orientation-11-27-2012-131
END:VEVENT

END:VCALENDAR
