BEGIN:VCALENDAR
VERSION:2.0
PRODID:-//ChamberMaster//Event Calendar 2.0//EN
METHOD:PUBLISH
X-PUBLISHED-TTL:P3D
REFRESH-INTERVAL:P3D
CALSCALE:GREGORIAN
BEGIN:VEVENT
DTSTART:20130525T030000Z
DTEND:20130525T050000Z
X-MICROSOFT-CDO-ALLDAYEVENT:FALSE
SUMMARY:Night at the Improv
DESCRIPTION:Ages 18+ Join San Ramon Improv U for an interactive evening of improvisational comedy. The show is created on the spot with the help of audience participation and suggestions. Not suitable for children under the age of 18. Tickets are $10. Front Row Theater Dougherty Station Community Center
X-ALT-DESC;FMTTYPE=text/html:Ages 18+ Join San Ramon Improv U for an interactive evening of improvisational comedy. The show is created on the spot with the help of audience participation and suggestions. Not suitable for children under the age of 18. Tickets are $10. Front Row Theater Dougherty Station Community Center 
LOCATION:Front Row Theater Dougherty Station Community Center
UID:e.1162.573
SEQUENCE:3
DTSTAMP:20260423T073353Z
URL:http://sanramon.chambermaster.com/events/details/night-at-the-improv-05-24-2013-573
END:VEVENT

END:VCALENDAR
