BEGIN:VCALENDAR
VERSION:2.0
PRODID:-//ChamberMaster//Event Calendar 2.0//EN
METHOD:PUBLISH
X-PUBLISHED-TTL:P3D
REFRESH-INTERVAL:P3D
CALSCALE:GREGORIAN
BEGIN:VEVENT
DTSTART:20130512T030000Z
DTEND:20130512T050000Z
X-MICROSOFT-CDO-ALLDAYEVENT:FALSE
SUMMARY:Smokey Robinson
DESCRIPTION:Once described by Bob Dylan as America's "greatest living poet\," Smokey Robinson performs from over 50 years of Motown hits such as "Tears of a Clown\," "Tracks of my Tears\," Shop Around\," and "Crusin." Additionally\, Smokey shares storied about his music and his legendary career and takes questions from the audience. Please visit www.sanramonperformingarts.com
X-ALT-DESC;FMTTYPE=text/html:Once described by Bob Dylan as America&#39\;s &quot\;greatest living poet\,&quot\; Smokey Robinson performs from over 50 years of Motown hits such as &quot\;Tears of a Clown\,&quot\; &quot\;Tracks of my Tears\,&quot\; Shop Around\,&quot\; and &quot\;Crusin.&quot\; Additionally\, Smokey shares storied about his music and his legendary career and takes questions from the audience. Please visit www.sanramonperformingarts.com 
LOCATION:Dougherty Valley Performing Arts Center
UID:e.1162.582
SEQUENCE:3
DTSTAMP:20260419T225343Z
URL:http://sanramon.chambermaster.com/events/details/smokey-robinson-05-11-2013-582
END:VEVENT

END:VCALENDAR
