BEGIN:VCALENDAR
VERSION:2.0
PRODID:-//ChamberMaster//Event Calendar 2.0//EN
METHOD:PUBLISH
X-PUBLISHED-TTL:P3D
REFRESH-INTERVAL:P3D
CALSCALE:GREGORIAN
BEGIN:VEVENT
DTSTART:20120921T003000Z
DTEND:20120921T023000Z
X-MICROSOFT-CDO-ALLDAYEVENT:FALSE
SUMMARY:Third Thursday Mixer - Blackhawk Plaza
DESCRIPTION:Please join us for our Third Thursday Mixer at the Blackhawk Plaza in Danville!!\n\n	Meet other business owners for an opportunity to network and make your business more visible.
X-ALT-DESC;FMTTYPE=text/html:<p style="margin-top: 0.5em\; margin-bottom: 15px\; font-size: 15px\; line-height: 20px\; font-family: Georgia\, 'Times New Roman'\, Times\, serif\; color: rgb(51\, 51\, 51)\; ">\n	Please join us for our Third Thursday Mixer at the Blackhawk Plaza in Danville!!</p>\n<p style="margin-top: 0.5em\; margin-bottom: 15px\; font-size: 15px\; line-height: 20px\; font-family: Georgia\, 'Times New Roman'\, Times\, serif\; color: rgb(51\, 51\, 51)\; ">\n	Meet other business owners for an opportunity to network and make your business more visible.</p>\n
LOCATION:ClubSport San Ramon
UID:e.1162.2
SEQUENCE:3
DTSTAMP:20260422T035153Z
URL:http://sanramon.chambermaster.com/events/details/third-thursday-mixer-blackhawk-plaza-09-20-2012-2
END:VEVENT

END:VCALENDAR
