BEGIN:VCALENDAR
VERSION:2.0
PRODID:-//ChamberMaster//Event Calendar 2.0//EN
METHOD:PUBLISH
X-PUBLISHED-TTL:P3D
REFRESH-INTERVAL:P3D
CALSCALE:GREGORIAN
BEGIN:VEVENT
DTSTART:20121221T013000Z
DTEND:20121221T033000Z
X-MICROSOFT-CDO-ALLDAYEVENT:FALSE
SUMMARY:Third Thursday Mixer - San Ramon Marriott
DESCRIPTION:Please join us for a night of excellent food\, wine and fun!  Meet other business owners for an opportunity to network and make your business more visible.
X-ALT-DESC;FMTTYPE=text/html:Please join us for a night of excellent food\, wine and fun!&nbsp\; Meet other business owners for an opportunity to network and make your business more visible.<br />\n<br />\n<br />\n
LOCATION:San Ramon Marriott 2600 Bishop Drive San Ramon\, CA 94583
UID:e.1162.133
SEQUENCE:3
DTSTAMP:20260420T044405Z
URL:http://sanramon.chambermaster.com/events/details/third-thursday-mixer-san-ramon-marriott-12-20-2012-133
END:VEVENT

END:VCALENDAR
